BEGIN:VCALENDAR
VERSION:2.0
PRODID:-//VanWest College - ECPv6.15.20//NONSGML v1.0//EN
CALSCALE:GREGORIAN
METHOD:PUBLISH
X-ORIGINAL-URL:https://vanwest.com
X-WR-CALDESC:Events for VanWest College
REFRESH-INTERVAL;VALUE=DURATION:PT1H
X-Robots-Tag:noindex
X-PUBLISHED-TTL:PT1H
BEGIN:VTIMEZONE
TZID:UTC
BEGIN:STANDARD
TZOFFSETFROM:+0000
TZOFFSETTO:+0000
TZNAME:UTC
DTSTART:20250101T000000
END:STANDARD
END:VTIMEZONE
BEGIN:VEVENT
DTSTART;TZID=UTC:20260422T130000
DTEND;TZID=UTC:20260422T140000
DTSTAMP:20260423T192333
CREATED:20260116T191008Z
LAST-MODIFIED:20260129T194200Z
UID:12963-1776862800-1776866400@vanwest.com
SUMMARY:Co-op Workshop: Interview Skills
DESCRIPTION:
URL:https://vanwest.com/activities/co-op-workshop-interview-skills-2/
LOCATION:VanWest Vancouver Campus\, 1016 Nelson St #200\, Vancouver\, BC\, V6E 1H8\, Canada
CATEGORIES:Co-op,Co-op Workshop
ATTACH;FMTTYPE=image/png:https://vanwest.com/wp-content/uploads/2026/01/VanWest_InterviewSkills_Poster-1-scaled.png
ORGANIZER;CN="Co-op Team":MAILTO:co-op@vanwest.com
END:VEVENT
END:VCALENDAR