BEGIN:VCALENDAR
VERSION:2.0
PRODID:-//VanWest College - ECPv6.15.20//NONSGML v1.0//EN
CALSCALE:GREGORIAN
METHOD:PUBLISH
X-ORIGINAL-URL:https://vanwest.com
X-WR-CALDESC:Events for VanWest College
REFRESH-INTERVAL;VALUE=DURATION:PT1H
X-Robots-Tag:noindex
X-PUBLISHED-TTL:PT1H
BEGIN:VTIMEZONE
TZID:UTC
BEGIN:STANDARD
TZOFFSETFROM:+0000
TZOFFSETTO:+0000
TZNAME:UTC
DTSTART:20250101T000000
END:STANDARD
END:VTIMEZONE
BEGIN:VEVENT
DTSTART;TZID=UTC:20260506T130000
DTEND;TZID=UTC:20260506T140000
DTSTAMP:20260423T163821
CREATED:20260116T191201Z
LAST-MODIFIED:20260129T194223Z
UID:12967-1778072400-1778076000@vanwest.com
SUMMARY:Co-op Workshop: Job Search Techniques
DESCRIPTION:
URL:https://vanwest.com/activities/co-op-workshop-job-search-techniques-3/
LOCATION:VanWest Vancouver Campus\, 1016 Nelson St #200\, Vancouver\, BC\, V6E 1H8\, Canada
CATEGORIES:Co-op,Co-op Workshop
ATTACH;FMTTYPE=image/png:https://vanwest.com/wp-content/uploads/2026/01/VanWest_JobSearchTechniques_Poster-3-scaled.png
ORGANIZER;CN="Co-op Team":MAILTO:co-op@vanwest.com
END:VEVENT
BEGIN:VEVENT
DTSTART;TZID=UTC:20260520T130000
DTEND;TZID=UTC:20260520T140000
DTSTAMP:20260423T163821
CREATED:20260116T191358Z
LAST-MODIFIED:20260212T080306Z
UID:12971-1779282000-1779285600@vanwest.com
SUMMARY:Co-op Workshop: Creating Effective Resumes
DESCRIPTION:
URL:https://vanwest.com/activities/co-op-workshop-creating-effective-resumes-2/
LOCATION:VanWest Vancouver Campus\, 1016 Nelson St #200\, Vancouver\, BC\, V6E 1H8\, Canada
CATEGORIES:Co-op,Co-op Workshop
ATTACH;FMTTYPE=image/png:https://vanwest.com/wp-content/uploads/2026/01/VanWest_CreatingEffectiveResumes_Poster-2-scaled.png
ORGANIZER;CN="Co-op Team":MAILTO:co-op@vanwest.com
END:VEVENT
BEGIN:VEVENT
DTSTART;TZID=UTC:20260603T130000
DTEND;TZID=UTC:20260603T140000
DTSTAMP:20260423T163821
CREATED:20260116T191544Z
LAST-MODIFIED:20260129T194309Z
UID:12975-1780491600-1780495200@vanwest.com
SUMMARY:Co-op Workshop: Professional Email Writing
DESCRIPTION:
URL:https://vanwest.com/activities/co-op-workshop-professional-email-writing-3/
LOCATION:VanWest Vancouver Campus\, 1016 Nelson St #200\, Vancouver\, BC\, V6E 1H8\, Canada
CATEGORIES:Co-op,Co-op Workshop
ATTACH;FMTTYPE=image/png:https://vanwest.com/wp-content/uploads/2026/01/VanWest_ProfessionalEmailWriting_Poster-2-scaled.png
ORGANIZER;CN="Co-op Team":MAILTO:co-op@vanwest.com
END:VEVENT
BEGIN:VEVENT
DTSTART;TZID=UTC:20260617T130000
DTEND;TZID=UTC:20260617T140000
DTSTAMP:20260423T163821
CREATED:20260116T191719Z
LAST-MODIFIED:20260129T194322Z
UID:12979-1781701200-1781704800@vanwest.com
SUMMARY:Co-op Workshop: Interview Skills
DESCRIPTION:
URL:https://vanwest.com/activities/co-op-workshop-interview-skills-3/
LOCATION:VanWest Vancouver Campus\, 1016 Nelson St #200\, Vancouver\, BC\, V6E 1H8\, Canada
CATEGORIES:Co-op,Co-op Workshop
ATTACH;FMTTYPE=image/png:https://vanwest.com/wp-content/uploads/2026/01/VanWest_InterviewSkills_Poster-2-scaled.png
ORGANIZER;CN="Co-op Team":MAILTO:co-op@vanwest.com
END:VEVENT
END:VCALENDAR