BEGIN:VCALENDAR
VERSION:2.0
PRODID:-//VanWest College - ECPv6.15.20//NONSGML v1.0//EN
CALSCALE:GREGORIAN
METHOD:PUBLISH
X-WR-CALNAME:VanWest College
X-ORIGINAL-URL:https://vanwest.com
X-WR-CALDESC:Events for VanWest College
REFRESH-INTERVAL;VALUE=DURATION:PT1H
X-Robots-Tag:noindex
X-PUBLISHED-TTL:PT1H
BEGIN:VTIMEZONE
TZID:UTC
BEGIN:STANDARD
TZOFFSETFROM:+0000
TZOFFSETTO:+0000
TZNAME:UTC
DTSTART:20250101T000000
END:STANDARD
END:VTIMEZONE
BEGIN:VEVENT
DTSTART;TZID=UTC:20260420T150000
DTEND;TZID=UTC:20260420T160000
DTSTAMP:20260425T102916
CREATED:20260330T221651Z
LAST-MODIFIED:20260330T221651Z
UID:13784-1776697200-1776700800@vanwest.com
SUMMARY:Board Games
DESCRIPTION:Contact Jennifer to complete booking: \n\nE-mail: jennifer.n@vanwest.com\nInstagram: @kelowna_vanwest
URL:https://vanwest.com/activities/board-games/
LOCATION:VanWest Kelowna Campus\, 532 Leon Ave #104\, Kelowna\, BC\, V1Y 6J6\, Canada
CATEGORIES:Kelowna
ATTACH;FMTTYPE=image/jpeg:https://vanwest.com/wp-content/uploads/2025/01/board-games.jpg
ORGANIZER;CN="Jennifer - Kelowna":MAILTO:jennifer.n@vanwest.com
END:VEVENT
END:VCALENDAR