BEGIN:VCALENDAR
VERSION:2.0
PRODID:-//VanWest College - ECPv6.15.20//NONSGML v1.0//EN
CALSCALE:GREGORIAN
METHOD:PUBLISH
X-ORIGINAL-URL:https://vanwest.com
X-WR-CALDESC:Events for VanWest College
REFRESH-INTERVAL;VALUE=DURATION:PT1H
X-Robots-Tag:noindex
X-PUBLISHED-TTL:PT1H
BEGIN:VTIMEZONE
TZID:UTC
BEGIN:STANDARD
TZOFFSETFROM:+0000
TZOFFSETTO:+0000
TZNAME:UTC
DTSTART:20240101T000000
END:STANDARD
END:VTIMEZONE
BEGIN:VEVENT
DTSTART;TZID=UTC:20251202T150000
DTEND;TZID=UTC:20251202T160000
DTSTAMP:20260424T050248
CREATED:20251126T195033Z
LAST-MODIFIED:20251126T195641Z
UID:12587-1764687600-1764691200@vanwest.com
SUMMARY:How To Write A Resume
DESCRIPTION:
URL:https://vanwest.com/activities/how-to-write-a-resume/
LOCATION:VanWest Vancouver Campus\, 1016 Nelson St #200\, Vancouver\, BC\, V6E 1H8\, Canada
CATEGORIES:Vancouver
ATTACH;FMTTYPE=image/jpeg:https://vanwest.com/wp-content/uploads/2025/09/Resume.jpg
ORGANIZER;CN="Chloe - Vancouver Activity Leader":MAILTO:activities@vanwest.com
END:VEVENT
BEGIN:VEVENT
DTSTART;TZID=UTC:20251203T150000
DTEND;TZID=UTC:20251203T170000
DTSTAMP:20260424T050248
CREATED:20251126T195132Z
LAST-MODIFIED:20251126T195132Z
UID:12589-1764774000-1764781200@vanwest.com
SUMMARY:Granville + Aquabus
DESCRIPTION:
URL:https://vanwest.com/activities/granville-aquabus/
LOCATION:Granville Island Public Market\, 1689 Johnston St\, Vancouver\, BC\, V6H 3S2
CATEGORIES:Vancouver
ATTACH;FMTTYPE=image/png:https://vanwest.com/wp-content/uploads/2025/05/Aquabus-Tour.png
ORGANIZER;CN="Chloe - Vancouver Activity Leader":MAILTO:activities@vanwest.com
END:VEVENT
BEGIN:VEVENT
DTSTART;TZID=UTC:20251205T150000
DTEND;TZID=UTC:20251205T170000
DTSTAMP:20260424T050248
CREATED:20251126T195318Z
LAST-MODIFIED:20251126T195318Z
UID:12594-1764946800-1764954000@vanwest.com
SUMMARY:Art Gallery
DESCRIPTION:
URL:https://vanwest.com/activities/art-gallery-8/
LOCATION:Vancouver Art Gallery\, 750 Hornby St\, Vancouver\, BC\, V6Z 2H7\, Canada
CATEGORIES:Vancouver
ATTACH;FMTTYPE=image/jpeg:https://vanwest.com/wp-content/uploads/2025/07/Art-Gallary-scaled.jpg
ORGANIZER;CN="Chloe - Vancouver Activity Leader":MAILTO:activities@vanwest.com
END:VEVENT
BEGIN:VEVENT
DTSTART;TZID=UTC:20251208T180000
DTEND;TZID=UTC:20251208T223000
DTSTAMP:20260424T050248
CREATED:20251126T195433Z
LAST-MODIFIED:20251126T195433Z
UID:12596-1765216800-1765233000@vanwest.com
SUMMARY:Vancouver Canucks
DESCRIPTION:
URL:https://vanwest.com/activities/vancouver-canucks-2/
LOCATION:Rogers Arena\, 800 Griffiths Wy\, Vancouver\, BC\, V6B 6G1\, Canada
CATEGORIES:Vancouver
ATTACH;FMTTYPE=image/png:https://vanwest.com/wp-content/uploads/2025/01/Hockey-Canucks.png
ORGANIZER;CN="Chloe - Vancouver Activity Leader":MAILTO:activities@vanwest.com
END:VEVENT
BEGIN:VEVENT
DTSTART;TZID=UTC:20251209T150000
DTEND;TZID=UTC:20251209T160000
DTSTAMP:20260424T050248
CREATED:20251126T195621Z
LAST-MODIFIED:20251126T195956Z
UID:12598-1765292400-1765296000@vanwest.com
SUMMARY:Imagination Games- Teacher Caroe
DESCRIPTION:
URL:https://vanwest.com/activities/imagination-games-teacher-caroe-2/
LOCATION:VanWest Vancouver Campus\, 1016 Nelson St #200\, Vancouver\, BC\, V6E 1H8\, Canada
CATEGORIES:Vancouver
ATTACH;FMTTYPE=image/png:https://vanwest.com/wp-content/uploads/2025/11/IG-Insta-DEC25.png
ORGANIZER;CN="Chloe - Vancouver Activity Leader":MAILTO:activities@vanwest.com
END:VEVENT
BEGIN:VEVENT
DTSTART;TZID=UTC:20251210T150000
DTEND;TZID=UTC:20251210T170000
DTSTAMP:20260424T050248
CREATED:20251126T195738Z
LAST-MODIFIED:20251126T195738Z
UID:12604-1765378800-1765386000@vanwest.com
SUMMARY:Christmas Market
DESCRIPTION:
URL:https://vanwest.com/activities/christmas-market-2/
LOCATION:Contact Chloe\, Contact Chloe
CATEGORIES:Vancouver
ATTACH;FMTTYPE=image/jpeg:https://vanwest.com/wp-content/uploads/2024/11/christmas-market.jpg
ORGANIZER;CN="Chloe - Vancouver Activity Leader":MAILTO:activities@vanwest.com
END:VEVENT
BEGIN:VEVENT
DTSTART;TZID=UTC:20251211T150000
DTEND;TZID=UTC:20251211T170000
DTSTAMP:20260424T050248
CREATED:20251126T200129Z
LAST-MODIFIED:20251126T200129Z
UID:12611-1765465200-1765472400@vanwest.com
SUMMARY:Vancouver Lookout
DESCRIPTION:
URL:https://vanwest.com/activities/vancouver-lookout-7/
LOCATION:Contact Chloe\, Contact Chloe
CATEGORIES:Vancouver
ATTACH;FMTTYPE=image/jpeg:https://vanwest.com/wp-content/uploads/2025/11/Vancouver-Lookout_138731.jpg
ORGANIZER;CN="Chloe - Vancouver Activity Leader":MAILTO:activities@vanwest.com
END:VEVENT
BEGIN:VEVENT
DTSTART;TZID=UTC:20251212T150000
DTEND;TZID=UTC:20260109T170000
DTSTAMP:20260424T050248
CREATED:20251126T200227Z
LAST-MODIFIED:20251126T201409Z
UID:12614-1765551600-1767978000@vanwest.com
SUMMARY:Happy Hour (19+)
DESCRIPTION:
URL:https://vanwest.com/activities/happy-hour/
LOCATION:Contact Chloe\, Contact Chloe
CATEGORIES:Vancouver
ATTACH;FMTTYPE=image/jpeg:https://vanwest.com/wp-content/uploads/2024/11/happy-hour.jpg
ORGANIZER;CN="Chloe - Vancouver Activity Leader":MAILTO:activities@vanwest.com
END:VEVENT
BEGIN:VEVENT
DTSTART;TZID=UTC:20251215T150000
DTEND;TZID=UTC:20251215T170000
DTSTAMP:20260424T050248
CREATED:20251126T200329Z
LAST-MODIFIED:20251126T200329Z
UID:12618-1765810800-1765818000@vanwest.com
SUMMARY:Capilano Suspension Bridge Park
DESCRIPTION:
URL:https://vanwest.com/activities/capilano-suspension-bridge-park/
LOCATION:Capilano Suspension Bridge Park\, 3735 Capilano Rd\, North Vancouver\, BC\, V7R 4J1\, Canada
CATEGORIES:Vancouver
ATTACH;FMTTYPE=image/jpeg:https://vanwest.com/wp-content/uploads/2025/01/85378_Main-File-scaled.jpg
ORGANIZER;CN="Chloe - Vancouver Activity Leader":MAILTO:activities@vanwest.com
END:VEVENT
BEGIN:VEVENT
DTSTART;TZID=UTC:20251216T150000
DTEND;TZID=UTC:20251216T170000
DTSTAMP:20260424T050248
CREATED:20251126T200421Z
LAST-MODIFIED:20251126T200421Z
UID:12622-1765897200-1765904400@vanwest.com
SUMMARY:How To Write A Cover Letter
DESCRIPTION:
URL:https://vanwest.com/activities/how-to-write-a-cover-letter/
LOCATION:VanWest Vancouver Campus\, 1016 Nelson St #200\, Vancouver\, BC\, V6E 1H8\, Canada
CATEGORIES:Vancouver
ATTACH;FMTTYPE=image/jpeg:https://vanwest.com/wp-content/uploads/2025/09/Cover-Letter.jpg
ORGANIZER;CN="Chloe - Vancouver Activity Leader":MAILTO:activities@vanwest.com
END:VEVENT
BEGIN:VEVENT
DTSTART;TZID=UTC:20251217T150000
DTEND;TZID=UTC:20251217T170000
DTSTAMP:20260424T050248
CREATED:20251126T200615Z
LAST-MODIFIED:20251126T200615Z
UID:12624-1765983600-1765990800@vanwest.com
SUMMARY:VanDusen Festival of Lights
DESCRIPTION:
URL:https://vanwest.com/activities/vandusen-festival-of-lights/
LOCATION:Contact Chloe\, Contact Chloe
CATEGORIES:Vancouver
ATTACH;FMTTYPE=image/jpeg:https://vanwest.com/wp-content/uploads/2025/11/festival-of-lights-2022-facebook.jpg
ORGANIZER;CN="Chloe - Vancouver Activity Leader":MAILTO:activities@vanwest.com
END:VEVENT
BEGIN:VEVENT
DTSTART;TZID=UTC:20251218T180000
DTEND;TZID=UTC:20251218T200000
DTSTAMP:20260424T050248
CREATED:20251126T202006Z
LAST-MODIFIED:20251126T202006Z
UID:12654-1766080800-1766088000@vanwest.com
SUMMARY:West Trek's- Ugly Sweater Party
DESCRIPTION:
URL:https://vanwest.com/activities/west-treks-ugly-sweater-party/
LOCATION:Partee-Putt\, 670 Smithe St\,\, Vancouver\, V6B 1E3\, Canada
CATEGORIES:Vancouver
ATTACH;FMTTYPE=image/avif:https://vanwest.com/wp-content/uploads/2025/11/Ugly-Sewater.avif
END:VEVENT
BEGIN:VEVENT
DTSTART;TZID=UTC:20251219T210000
DTEND;TZID=UTC:20251219T233000
DTSTAMP:20260424T050248
CREATED:20251126T201149Z
LAST-MODIFIED:20251126T201149Z
UID:12638-1766178000-1766187000@vanwest.com
SUMMARY:West Trek's Christmas Party
DESCRIPTION:
URL:https://vanwest.com/activities/west-treks-christmas-party/
LOCATION:Cabana Lounge\, 1163 Granville St\, Vancouver\, V6Z 0B4\, Canada
CATEGORIES:Vancouver
ATTACH;FMTTYPE=image/jpeg:https://vanwest.com/wp-content/uploads/2025/09/Party.jpg
END:VEVENT
BEGIN:VEVENT
DTSTART;TZID=UTC:20251220T130000
DTEND;TZID=UTC:20251220T150000
DTSTAMP:20260424T050248
CREATED:20251126T200904Z
LAST-MODIFIED:20251126T200904Z
UID:12627-1766235600-1766242800@vanwest.com
SUMMARY:The Nutcracker
DESCRIPTION:
URL:https://vanwest.com/activities/the-nutcracker/
LOCATION:Queen Elizabeth Theatre\, 630 Hamilton St\,\, Vancouver\, BC\, Canada
CATEGORIES:Vancouver
ATTACH;FMTTYPE=image/jpeg:https://vanwest.com/wp-content/uploads/2025/11/NBT-TheNutcracker-TSC-Website-Image-864x490-1-1.jpg
ORGANIZER;CN="Chloe - Vancouver Activity Leader":MAILTO:activities@vanwest.com
END:VEVENT
BEGIN:VEVENT
DTSTART;TZID=UTC:20251222T150000
DTEND;TZID=UTC:20251222T170000
DTSTAMP:20260424T050248
CREATED:20251126T201003Z
LAST-MODIFIED:20251126T201003Z
UID:12634-1766415600-1766422800@vanwest.com
SUMMARY:FlyOver Canada
DESCRIPTION:
URL:https://vanwest.com/activities/flyover-canada-9/
LOCATION:BC
CATEGORIES:Vancouver
ATTACH;FMTTYPE=image/jpeg:https://vanwest.com/wp-content/uploads/2025/02/Flyover-scaled.jpg
ORGANIZER;CN="Chloe - Vancouver Activity Leader":MAILTO:activities@vanwest.com
END:VEVENT
BEGIN:VEVENT
DTSTART;TZID=UTC:20251223T150000
DTEND;TZID=UTC:20251223T170000
DTSTAMP:20260424T050248
CREATED:20251126T201244Z
LAST-MODIFIED:20251126T201244Z
UID:12645-1766502000-1766509200@vanwest.com
SUMMARY:Ice Skating
DESCRIPTION:
URL:https://vanwest.com/activities/ice-skating-5/
LOCATION:Contact Chloe\, Contact Chloe
CATEGORIES:Vancouver
ATTACH;FMTTYPE=image/jpeg:https://vanwest.com/wp-content/uploads/2024/11/ice-skate.jpg
ORGANIZER;CN="Chloe - Vancouver Activity Leader":MAILTO:activities@vanwest.com
END:VEVENT
END:VCALENDAR