BEGIN:VCALENDAR
VERSION:2.0
PRODID:-//VanWest College - ECPv6.15.20//NONSGML v1.0//EN
CALSCALE:GREGORIAN
METHOD:PUBLISH
X-WR-CALNAME:VanWest College
X-ORIGINAL-URL:https://vanwest.com
X-WR-CALDESC:Events for VanWest College
REFRESH-INTERVAL;VALUE=DURATION:PT1H
X-Robots-Tag:noindex
X-PUBLISHED-TTL:PT1H
BEGIN:VTIMEZONE
TZID:UTC
BEGIN:STANDARD
TZOFFSETFROM:+0000
TZOFFSETTO:+0000
TZNAME:UTC
DTSTART:20250101T000000
END:STANDARD
END:VTIMEZONE
BEGIN:VEVENT
DTSTART;TZID=UTC:20260202T150000
DTEND;TZID=UTC:20260202T180000
DTSTAMP:20260423T230257
CREATED:20260128T191055Z
LAST-MODIFIED:20260128T191055Z
UID:13098-1770044400-1770055200@vanwest.com
SUMMARY:Capilano Lights
DESCRIPTION:
URL:https://vanwest.com/activities/capilano-lights/
LOCATION:Capilano Suspension Bridge Park\, 3735 Capilano Rd\, North Vancouver\, BC\, V7R 4J1\, Canada
CATEGORIES:Vancouver
ATTACH;FMTTYPE=image/jpeg:https://vanwest.com/wp-content/uploads/2025/01/85378_Main-File-scaled.jpg
ORGANIZER;CN="Chloe - Vancouver Activity Leader":MAILTO:activities@vanwest.com
END:VEVENT
BEGIN:VEVENT
DTSTART;TZID=UTC:20260205T150000
DTEND;TZID=UTC:20260205T170000
DTSTAMP:20260423T230257
CREATED:20260128T191822Z
LAST-MODIFIED:20260128T191822Z
UID:13109-1770303600-1770310800@vanwest.com
SUMMARY:Granville Island
DESCRIPTION:
URL:https://vanwest.com/activities/granville-island-6/
LOCATION:Granville Island Public Market\, 1689 Johnston St\, Vancouver\, BC\, V6H 3S2
CATEGORIES:Vancouver
ATTACH;FMTTYPE=image/png:https://vanwest.com/wp-content/uploads/2025/05/Aquabus-Tour.png
ORGANIZER;CN="Chloe - Vancouver Activity Leader":MAILTO:activities@vanwest.com
END:VEVENT
BEGIN:VEVENT
DTSTART;TZID=UTC:20260206T150000
DTEND;TZID=UTC:20260206T170000
DTSTAMP:20260423T230257
CREATED:20260128T191905Z
LAST-MODIFIED:20260128T191905Z
UID:13111-1770390000-1770397200@vanwest.com
SUMMARY:Art Gallery
DESCRIPTION:
URL:https://vanwest.com/activities/art-gallery-10/
LOCATION:Vancouver Art Gallery\, 750 Hornby St\, Vancouver\, BC\, V6Z 2H7\, Canada
CATEGORIES:Vancouver
ATTACH;FMTTYPE=image/jpeg:https://vanwest.com/wp-content/uploads/2025/07/Art-Gallary-scaled.jpg
ORGANIZER;CN="Chloe - Vancouver Activity Leader":MAILTO:activities@vanwest.com
END:VEVENT
BEGIN:VEVENT
DTSTART;TZID=UTC:20260209T150000
DTEND;TZID=UTC:20260209T170000
DTSTAMP:20260423T230257
CREATED:20260128T192032Z
LAST-MODIFIED:20260128T193313Z
UID:13113-1770649200-1770656400@vanwest.com
SUMMARY:Ice Cream Day
DESCRIPTION:
URL:https://vanwest.com/activities/ice-cream-day-9/
LOCATION:Earnest\, 1829 Quebec St Vancouver\, BC
CATEGORIES:Vancouver
ATTACH;FMTTYPE=image/jpeg:https://vanwest.com/wp-content/uploads/2025/01/ice-cream.jpg
ORGANIZER;CN="Chloe - Vancouver Activity Leader":MAILTO:activities@vanwest.com
END:VEVENT
BEGIN:VEVENT
DTSTART;TZID=UTC:20260211T150000
DTEND;TZID=UTC:20260211T160000
DTSTAMP:20260423T230257
CREATED:20260128T193446Z
LAST-MODIFIED:20260128T193446Z
UID:13144-1770822000-1770825600@vanwest.com
SUMMARY:Study Club
DESCRIPTION:
URL:https://vanwest.com/activities/study-club-17/
LOCATION:VanWest Vancouver Campus\, 1016 Nelson St #200\, Vancouver\, BC\, V6E 1H8\, Canada
CATEGORIES:Vancouver
ATTACH;FMTTYPE=image/jpeg:https://vanwest.com/wp-content/uploads/2026/01/Study-Club-scaled.jpg
ORGANIZER;CN="Chloe - Vancouver Activity Leader":MAILTO:activities@vanwest.com
END:VEVENT
BEGIN:VEVENT
DTSTART;TZID=UTC:20260212T150000
DTEND;TZID=UTC:20260212T170000
DTSTAMP:20260423T230257
CREATED:20260128T192237Z
LAST-MODIFIED:20260128T192237Z
UID:13119-1770908400-1770915600@vanwest.com
SUMMARY:Vancouver Lookout
DESCRIPTION:
URL:https://vanwest.com/activities/vancouver-lookout-8/
LOCATION:Vancouver Lookout\, 555 W Hastings St\, Vancouver\, BC V6B 4N6
CATEGORIES:Vancouver
ATTACH;FMTTYPE=image/jpeg:https://vanwest.com/wp-content/uploads/2025/01/vancouver-lookout.jpg
END:VEVENT
BEGIN:VEVENT
DTSTART;TZID=UTC:20260218T150000
DTEND;TZID=UTC:20260218T160000
DTSTAMP:20260423T230257
CREATED:20260128T191711Z
LAST-MODIFIED:20260128T193558Z
UID:13105-1771426800-1771430400@vanwest.com
SUMMARY:Study Club
DESCRIPTION:
URL:https://vanwest.com/activities/study-club-15/
LOCATION:VanWest Vancouver Campus\, 1016 Nelson St #200\, Vancouver\, BC\, V6E 1H8\, Canada
CATEGORIES:Vancouver
ATTACH;FMTTYPE=image/jpeg:https://vanwest.com/wp-content/uploads/2026/01/Study-Club-scaled.jpg
ORGANIZER;CN="Chloe - Vancouver Activity Leader":MAILTO:activities@vanwest.com
END:VEVENT
BEGIN:VEVENT
DTSTART;TZID=UTC:20260219T150000
DTEND;TZID=UTC:20260219T170000
DTSTAMP:20260423T230257
CREATED:20260128T192641Z
LAST-MODIFIED:20260128T192641Z
UID:13125-1771513200-1771520400@vanwest.com
SUMMARY:Pickleball- North Vancouver
DESCRIPTION:
URL:https://vanwest.com/activities/pickleball-north-vancouver/
LOCATION:Fairgrounds Public Racket Club\, 935 Marine Dr\, North Vancouver\, BC V7P 0C4
CATEGORIES:Vancouver
ATTACH;FMTTYPE=image/jpeg:https://vanwest.com/wp-content/uploads/2026/01/Pickleball-scaled.jpg
ORGANIZER;CN="Chloe - Vancouver Activity Leader":MAILTO:activities@vanwest.com
END:VEVENT
BEGIN:VEVENT
DTSTART;TZID=UTC:20260220T150000
DTEND;TZID=UTC:20260220T173000
DTSTAMP:20260423T230257
CREATED:20260128T192749Z
LAST-MODIFIED:20260128T192749Z
UID:13129-1771599600-1771608600@vanwest.com
SUMMARY:The Rec Room (19+)
DESCRIPTION:
URL:https://vanwest.com/activities/the-rec-room-19-4/
LOCATION:The Rec Room Granville\, 855 Granville St\, Vancouver\, BC V6Z 1K7
CATEGORIES:Vancouver
ORGANIZER;CN="Chloe - Vancouver Activity Leader":MAILTO:activities@vanwest.com
END:VEVENT
BEGIN:VEVENT
DTSTART;TZID=UTC:20260223T150000
DTEND;TZID=UTC:20260223T170000
DTSTAMP:20260423T230257
CREATED:20260128T192856Z
LAST-MODIFIED:20260128T192856Z
UID:13132-1771858800-1771866000@vanwest.com
SUMMARY:Flyover
DESCRIPTION:
URL:https://vanwest.com/activities/flyover/
LOCATION:Flyover\, 999 Canada Pl #201\, Vancouver\, BC V6C 3E1
CATEGORIES:Vancouver
ATTACH;FMTTYPE=image/jpeg:https://vanwest.com/wp-content/uploads/2025/02/Flyover-scaled.jpg
ORGANIZER;CN="Chloe - Vancouver Activity Leader":MAILTO:activities@vanwest.com
END:VEVENT
BEGIN:VEVENT
DTSTART;TZID=UTC:20260225T150000
DTEND;TZID=UTC:20260225T160000
DTSTAMP:20260423T230257
CREATED:20260128T191743Z
LAST-MODIFIED:20260128T193510Z
UID:13107-1772031600-1772035200@vanwest.com
SUMMARY:Study Club
DESCRIPTION:
URL:https://vanwest.com/activities/study-club-16/
LOCATION:VanWest Vancouver Campus\, 1016 Nelson St #200\, Vancouver\, BC\, V6E 1H8\, Canada
CATEGORIES:Vancouver
ATTACH;FMTTYPE=image/jpeg:https://vanwest.com/wp-content/uploads/2026/01/Study-Club-scaled.jpg
ORGANIZER;CN="Chloe - Vancouver Activity Leader":MAILTO:activities@vanwest.com
END:VEVENT
BEGIN:VEVENT
DTSTART;TZID=UTC:20260226T150000
DTEND;TZID=UTC:20260226T170000
DTSTAMP:20260423T230257
CREATED:20260128T193119Z
LAST-MODIFIED:20260128T193119Z
UID:13138-1772118000-1772125200@vanwest.com
SUMMARY:Ice Skating
DESCRIPTION:
URL:https://vanwest.com/activities/ice-skating-8/
LOCATION:Robson Square Ice Rink\, 800 Robson St\, Vancouver\, BC V6Z 3B7
CATEGORIES:Vancouver
ATTACH;FMTTYPE=image/jpeg:https://vanwest.com/wp-content/uploads/2025/12/skating-boots-6657328_1280.jpg
ORGANIZER;CN="Chloe - Vancouver Activity Leader":MAILTO:activities@vanwest.com
END:VEVENT
BEGIN:VEVENT
DTSTART;TZID=UTC:20260227T150000
DTEND;TZID=UTC:20260227T170000
DTSTAMP:20260423T230257
CREATED:20260128T193224Z
LAST-MODIFIED:20260128T193643Z
UID:13141-1772204400-1772211600@vanwest.com
SUMMARY:Happy Hour (19+)
DESCRIPTION:
URL:https://vanwest.com/activities/happy-hour-19-7/
LOCATION:Relish The Pub\, 888 Nelson St.\, Vancouver\, BC V6Z 2S1
CATEGORIES:Vancouver
ATTACH;FMTTYPE=image/jpeg:https://vanwest.com/wp-content/uploads/2024/11/happy-hour.jpg
ORGANIZER;CN="Chloe - Vancouver Activity Leader":MAILTO:activities@vanwest.com
END:VEVENT
END:VCALENDAR