BEGIN:VCALENDAR
VERSION:2.0
PRODID:-//VanWest College - ECPv6.15.20//NONSGML v1.0//EN
CALSCALE:GREGORIAN
METHOD:PUBLISH
X-ORIGINAL-URL:https://vanwest.com
X-WR-CALDESC:Events for VanWest College
REFRESH-INTERVAL;VALUE=DURATION:PT1H
X-Robots-Tag:noindex
X-PUBLISHED-TTL:PT1H
BEGIN:VTIMEZONE
TZID:UTC
BEGIN:STANDARD
TZOFFSETFROM:+0000
TZOFFSETTO:+0000
TZNAME:UTC
DTSTART:20250101T000000
END:STANDARD
END:VTIMEZONE
BEGIN:VEVENT
DTSTART;TZID=UTC:20260117T100000
DTEND;TZID=UTC:20260117T130000
DTSTAMP:20260424T032050
CREATED:20251230T192046Z
LAST-MODIFIED:20251230T192217Z
UID:12800-1768644000-1768654800@vanwest.com
SUMMARY:Granville Island
DESCRIPTION:
URL:https://vanwest.com/activities/granville-island-5/
LOCATION:VanWest Vancouver Campus\, 1016 Nelson St #200\, Vancouver\, BC\, V6E 1H8\, Canada
CATEGORIES:Vancouver
ATTACH;FMTTYPE=image/jpeg:https://vanwest.com/wp-content/uploads/2024/11/granville-island.jpg
ORGANIZER;CN="Chloe - Vancouver Activity Leader":MAILTO:activities@vanwest.com
END:VEVENT
END:VCALENDAR