BEGIN:VCALENDAR
VERSION:2.0
PRODID:-//VanWest College - ECPv6.15.20//NONSGML v1.0//EN
CALSCALE:GREGORIAN
METHOD:PUBLISH
X-WR-CALNAME:VanWest College
X-ORIGINAL-URL:https://vanwest.com
X-WR-CALDESC:Events for VanWest College
REFRESH-INTERVAL;VALUE=DURATION:PT1H
X-Robots-Tag:noindex
X-PUBLISHED-TTL:PT1H
BEGIN:VTIMEZONE
TZID:UTC
BEGIN:STANDARD
TZOFFSETFROM:+0000
TZOFFSETTO:+0000
TZNAME:UTC
DTSTART:20250101T000000
END:STANDARD
END:VTIMEZONE
BEGIN:VEVENT
DTSTART;TZID=UTC:20260128T150000
DTEND;TZID=UTC:20260128T180000
DTSTAMP:20260424T002415
CREATED:20251230T194440Z
LAST-MODIFIED:20251230T194440Z
UID:12815-1769612400-1769623200@vanwest.com
SUMMARY:Laser Tag (2 Games)
DESCRIPTION:
URL:https://vanwest.com/activities/laser-tag-2-games/
LOCATION:Planet Lazer\, 109 Braid St Building E\, New Westminster\, BC V3L 5H4
CATEGORIES:Vancouver
ATTACH;FMTTYPE=image/jpeg:https://vanwest.com/wp-content/uploads/2024/11/laser-tag.jpg
END:VEVENT
END:VCALENDAR