BEGIN:VCALENDAR
VERSION:2.0
PRODID:-//VanWest College - ECPv6.15.20//NONSGML v1.0//EN
CALSCALE:GREGORIAN
METHOD:PUBLISH
X-WR-CALNAME:VanWest College
X-ORIGINAL-URL:https://vanwest.com
X-WR-CALDESC:Events for VanWest College
REFRESH-INTERVAL;VALUE=DURATION:PT1H
X-Robots-Tag:noindex
X-PUBLISHED-TTL:PT1H
BEGIN:VTIMEZONE
TZID:UTC
BEGIN:STANDARD
TZOFFSETFROM:+0000
TZOFFSETTO:+0000
TZNAME:UTC
DTSTART:20250101T000000
END:STANDARD
END:VTIMEZONE
BEGIN:VEVENT
DTSTART;TZID=UTC:20260303T150000
DTEND;TZID=UTC:20260303T170000
DTSTAMP:20260423T211845
CREATED:20260225T223700Z
LAST-MODIFIED:20260225T223700Z
UID:13275-1772550000-1772557200@vanwest.com
SUMMARY:Cha Tra Mue- Thai Tea
DESCRIPTION:
URL:https://vanwest.com/activities/cha-tra-mue-thai-tea/
LOCATION:Cha Tra Mue\, 736 W Broadway\, Vancouver\, BC V5Z 1G8
CATEGORIES:Vancouver
ATTACH;FMTTYPE=image/jpeg:https://vanwest.com/wp-content/uploads/2026/02/cha-tra-mue-vancouver-opening-4.jpg
ORGANIZER;CN="Chloe - Vancouver Activity Leader":MAILTO:activities@vanwest.com
END:VEVENT
END:VCALENDAR