BEGIN:VCALENDAR
VERSION:2.0
PRODID:-//VanWest College - ECPv6.15.20//NONSGML v1.0//EN
CALSCALE:GREGORIAN
METHOD:PUBLISH
X-WR-CALNAME:VanWest College
X-ORIGINAL-URL:https://vanwest.com
X-WR-CALDESC:Events for VanWest College
REFRESH-INTERVAL;VALUE=DURATION:PT1H
X-Robots-Tag:noindex
X-PUBLISHED-TTL:PT1H
BEGIN:VTIMEZONE
TZID:UTC
BEGIN:STANDARD
TZOFFSETFROM:+0000
TZOFFSETTO:+0000
TZNAME:UTC
DTSTART:20250101T000000
END:STANDARD
END:VTIMEZONE
BEGIN:VEVENT
DTSTART;TZID=UTC:20260317T200000
DTEND;TZID=UTC:20260318T020000
DTSTAMP:20260423T211844
CREATED:20260225T224712Z
LAST-MODIFIED:20260225T224722Z
UID:13294-1773777600-1773799200@vanwest.com
SUMMARY:St. Patrick's Party- West Trek
DESCRIPTION:
URL:https://vanwest.com/activities/st-patricks-party-westtrek/
LOCATION:GRETA Bar\, 50 W Cordova St\, Vancouver\, BC\, V6B 1C8\, Canada
CATEGORIES:Vancouver
ATTACH;FMTTYPE=image/png:https://vanwest.com/wp-content/uploads/2026/02/Screenshot-2026-02-25-144634.png
ORGANIZER;CN="Chloe - Vancouver Activity Leader":MAILTO:activities@vanwest.com
END:VEVENT
END:VCALENDAR