BEGIN:VCALENDAR
VERSION:2.0
PRODID:-//VanWest College - ECPv6.15.20//NONSGML v1.0//EN
CALSCALE:GREGORIAN
METHOD:PUBLISH
X-ORIGINAL-URL:https://vanwest.com
X-WR-CALDESC:Events for VanWest College
REFRESH-INTERVAL;VALUE=DURATION:PT1H
X-Robots-Tag:noindex
X-PUBLISHED-TTL:PT1H
BEGIN:VTIMEZONE
TZID:UTC
BEGIN:STANDARD
TZOFFSETFROM:+0000
TZOFFSETTO:+0000
TZNAME:UTC
DTSTART:20250101T000000
END:STANDARD
END:VTIMEZONE
BEGIN:VEVENT
DTSTART;TZID=UTC:20260324T190000
DTEND;TZID=UTC:20260324T213000
DTSTAMP:20260423T211728
CREATED:20260225T230053Z
LAST-MODIFIED:20260225T230053Z
UID:13311-1774378800-1774387800@vanwest.com
SUMMARY:Les Miserables
DESCRIPTION:
URL:https://vanwest.com/activities/les-miserables/
LOCATION:Queen Elizabeth Theatre\, 630 Hamilton St\,\, Vancouver\, BC\, Canada
CATEGORIES:Vancouver
ATTACH;FMTTYPE=image/jpeg:https://vanwest.com/wp-content/uploads/2026/02/01-les_mis_tour_0789c_one-day-more_photo-by-matthew-murphy_v003-retina.jpg
ORGANIZER;CN="Chloe - Vancouver Activity Leader":MAILTO:activities@vanwest.com
END:VEVENT
END:VCALENDAR