BEGIN:VCALENDAR
VERSION:2.0
PRODID:-//VanWest College - ECPv6.15.20//NONSGML v1.0//EN
CALSCALE:GREGORIAN
METHOD:PUBLISH
X-ORIGINAL-URL:https://vanwest.com
X-WR-CALDESC:Events for VanWest College
REFRESH-INTERVAL;VALUE=DURATION:PT1H
X-Robots-Tag:noindex
X-PUBLISHED-TTL:PT1H
BEGIN:VTIMEZONE
TZID:UTC
BEGIN:STANDARD
TZOFFSETFROM:+0000
TZOFFSETTO:+0000
TZNAME:UTC
DTSTART:20250101T000000
END:STANDARD
END:VTIMEZONE
BEGIN:VEVENT
DTSTART;TZID=UTC:20260516T110000
DTEND;TZID=UTC:20260516T140000
DTSTAMP:20260423T205248
CREATED:20260410T173424Z
LAST-MODIFIED:20260410T173424Z
UID:14025-1778929200-1778940000@vanwest.com
SUMMARY:Capilano Suspension Bridge Park
DESCRIPTION:
URL:https://vanwest.com/activities/capilano-suspension-bridge-park-2/
LOCATION:Capilano Suspension Bridge Park\, 3735 Capilano Rd\, North Vancouver\, BC\, V7R 4J1\, Canada
CATEGORIES:Vancouver
ATTACH;FMTTYPE=image/jpeg:https://vanwest.com/wp-content/uploads/2025/01/capilano.jpg
ORGANIZER;CN="Chloe - Vancouver Activity Leader":MAILTO:activities@vanwest.com
END:VEVENT
END:VCALENDAR