BEGIN:VCALENDAR
VERSION:2.0
PRODID:-//VanWest College - ECPv6.15.20//NONSGML v1.0//EN
CALSCALE:GREGORIAN
METHOD:PUBLISH
X-ORIGINAL-URL:https://vanwest.com
X-WR-CALDESC:Events for VanWest College
REFRESH-INTERVAL;VALUE=DURATION:PT1H
X-Robots-Tag:noindex
X-PUBLISHED-TTL:PT1H
BEGIN:VTIMEZONE
TZID:UTC
BEGIN:STANDARD
TZOFFSETFROM:+0000
TZOFFSETTO:+0000
TZNAME:UTC
DTSTART:20250101T000000
END:STANDARD
END:VTIMEZONE
BEGIN:VEVENT
DTSTART;TZID=UTC:20260423T210000
DTEND;TZID=UTC:20260423T233000
DTSTAMP:20260423T150815
CREATED:20260327T183439Z
LAST-MODIFIED:20260330T215612Z
UID:13742-1776978000-1776987000@vanwest.com
SUMMARY:WestChella Party (WT)
DESCRIPTION:
URL:https://vanwest.com/activities/westchella-party-wt/
LOCATION:GRETA Bar\, 50 W Cordova St\, Vancouver\, BC\, V6B 1C8\, Canada
CATEGORIES:Vancouver
ATTACH;FMTTYPE=image/jpeg:https://vanwest.com/wp-content/uploads/2026/03/WestChella.jpg
ORGANIZER;CN="Chloe - Vancouver Activity Leader":MAILTO:activities@vanwest.com
END:VEVENT
BEGIN:VEVENT
DTSTART;TZID=UTC:20260424T133000
DTEND;TZID=UTC:20260424T193000
DTSTAMP:20260423T150815
CREATED:20260327T183654Z
LAST-MODIFIED:20260327T183654Z
UID:13745-1777037400-1777059000@vanwest.com
SUMMARY:Tulip Festival (WT)
DESCRIPTION:
URL:https://vanwest.com/activities/tulip-festival-wt/
LOCATION:Harrison Tulip Festival\, 5039 Lougheed Hwy.\, Agassiz\, BC V0M 1A3
CATEGORIES:Vancouver
ATTACH;FMTTYPE=image/png:https://vanwest.com/wp-content/uploads/2026/03/image.png
ORGANIZER;CN="Chloe - Vancouver Activity Leader":MAILTO:activities@vanwest.com
END:VEVENT
BEGIN:VEVENT
DTSTART;TZID=UTC:20260425T140000
DTEND;TZID=UTC:20260425T170000
DTSTAMP:20260423T150815
CREATED:20260327T183813Z
LAST-MODIFIED:20260327T183813Z
UID:13749-1777125600-1777136400@vanwest.com
SUMMARY:Deep Cove
DESCRIPTION:
URL:https://vanwest.com/activities/deep-cove-3/
LOCATION:Deep Cove\, 2400 Panorama Dr\, North Vancouver\, BC V7G 1V5
CATEGORIES:Vancouver
ATTACH;FMTTYPE=image/png:https://vanwest.com/wp-content/uploads/2025/04/deep-cove.png
ORGANIZER;CN="Chloe - Vancouver Activity Leader":MAILTO:activities@vanwest.com
END:VEVENT
BEGIN:VEVENT
DTSTART;TZID=UTC:20260427T150000
DTEND;TZID=UTC:20260427T170000
DTSTAMP:20260423T150815
CREATED:20260327T183901Z
LAST-MODIFIED:20260327T183901Z
UID:13752-1777302000-1777309200@vanwest.com
SUMMARY:Flyover
DESCRIPTION:f
URL:https://vanwest.com/activities/flyover-3/
LOCATION:Flyover\, 999 Canada Pl #201\, Vancouver\, BC V6C 3E1
CATEGORIES:Vancouver
ATTACH;FMTTYPE=image/jpeg:https://vanwest.com/wp-content/uploads/2025/02/Flyover-scaled.jpg
ORGANIZER;CN="Chloe - Vancouver Activity Leader":MAILTO:activities@vanwest.com
END:VEVENT
BEGIN:VEVENT
DTSTART;TZID=UTC:20260428T150000
DTEND;TZID=UTC:20260428T170000
DTSTAMP:20260423T150815
CREATED:20260327T183944Z
LAST-MODIFIED:20260327T183944Z
UID:13754-1777388400-1777395600@vanwest.com
SUMMARY:Granville Island
DESCRIPTION:
URL:https://vanwest.com/activities/granville-island-8/
LOCATION:Granville Island Public Market\, 1689 Johnston St\, Vancouver\, BC\, V6H 3S2
CATEGORIES:Vancouver
ATTACH;FMTTYPE=image/jpeg:https://vanwest.com/wp-content/uploads/2024/11/granville-island.jpg
ORGANIZER;CN="Chloe - Vancouver Activity Leader":MAILTO:activities@vanwest.com
END:VEVENT
BEGIN:VEVENT
DTSTART;TZID=UTC:20260430T150000
DTEND;TZID=UTC:20260430T170000
DTSTAMP:20260423T150815
CREATED:20260327T184147Z
LAST-MODIFIED:20260327T184147Z
UID:13756-1777561200-1777568400@vanwest.com
SUMMARY:Stanley Park
DESCRIPTION:
URL:https://vanwest.com/activities/stanley-park/
LOCATION:Stanley Park
CATEGORIES:Vancouver
ATTACH;FMTTYPE=image/jpeg:https://vanwest.com/wp-content/uploads/2026/03/Stanley-Park-1-scaled.jpg
ORGANIZER;CN="Chloe - Vancouver Activity Leader":MAILTO:activities@vanwest.com
END:VEVENT
BEGIN:VEVENT
DTSTART;TZID=UTC:20260501T150000
DTEND;TZID=UTC:20260501T170000
DTSTAMP:20260423T150815
CREATED:20260410T172551Z
LAST-MODIFIED:20260410T172551Z
UID:14006-1777647600-1777654800@vanwest.com
SUMMARY:Art Gallery
DESCRIPTION:
URL:https://vanwest.com/activities/art-gallery-12/
LOCATION:Vancouver Art Gallery\, 750 Hornby St\, Vancouver\, BC\, V6Z 2H7\, Canada
CATEGORIES:Vancouver
ATTACH;FMTTYPE=image/jpeg:https://vanwest.com/wp-content/uploads/2025/01/vancouver-art-gallery.jpg
ORGANIZER;CN="Chloe - Vancouver Activity Leader":MAILTO:activities@vanwest.com
END:VEVENT
BEGIN:VEVENT
DTSTART;TZID=UTC:20260504T150000
DTEND;TZID=UTC:20260504T170000
DTSTAMP:20260423T150815
CREATED:20260410T172629Z
LAST-MODIFIED:20260410T172629Z
UID:14008-1777906800-1777914000@vanwest.com
SUMMARY:Board Gmae
DESCRIPTION:
URL:https://vanwest.com/activities/board-gmae/
LOCATION:VanWest Vancouver Campus\, 1016 Nelson St #200\, Vancouver\, BC\, V6E 1H8\, Canada
CATEGORIES:Vancouver
ATTACH;FMTTYPE=image/jpeg:https://vanwest.com/wp-content/uploads/2026/03/boardgame_2-scaled.jpg
ORGANIZER;CN="Chloe - Vancouver Activity Leader":MAILTO:activities@vanwest.com
END:VEVENT
BEGIN:VEVENT
DTSTART;TZID=UTC:20260505T150000
DTEND;TZID=UTC:20260505T170000
DTSTAMP:20260423T150815
CREATED:20260410T172740Z
LAST-MODIFIED:20260410T172740Z
UID:14010-1777993200-1778000400@vanwest.com
SUMMARY:UBC Tour
DESCRIPTION:
URL:https://vanwest.com/activities/ubc-tour-4/
LOCATION:UBC\, 6200 University Blvd\, Vancouver\, BC V6T 1Z4
CATEGORIES:Vancouver
ATTACH;FMTTYPE=image/jpeg:https://vanwest.com/wp-content/uploads/2025/01/ubc.jpg
ORGANIZER;CN="Chloe - Vancouver Activity Leader":MAILTO:activities@vanwest.com
END:VEVENT
BEGIN:VEVENT
DTSTART;TZID=UTC:20260507T150000
DTEND;TZID=UTC:20260507T170000
DTSTAMP:20260423T150815
CREATED:20260410T172829Z
LAST-MODIFIED:20260410T172829Z
UID:14013-1778166000-1778173200@vanwest.com
SUMMARY:Museum of Vancouver
DESCRIPTION:
URL:https://vanwest.com/activities/museum-of-vancouver-2/
LOCATION:Museum of Vancouver\, 1100 Chestnut St\, Vancouver\, BC V6J 3J9
CATEGORIES:Vancouver
ATTACH;FMTTYPE=image/jpeg:https://vanwest.com/wp-content/uploads/2026/02/Museum-of-Vancouver.jpg
ORGANIZER;CN="Chloe - Vancouver Activity Leader":MAILTO:activities@vanwest.com
END:VEVENT
BEGIN:VEVENT
DTSTART;TZID=UTC:20260508T150000
DTEND;TZID=UTC:20260508T170000
DTSTAMP:20260423T150815
CREATED:20260410T172858Z
LAST-MODIFIED:20260410T172858Z
UID:14015-1778252400-1778259600@vanwest.com
SUMMARY:Cafe
DESCRIPTION:
URL:https://vanwest.com/activities/cafe/
LOCATION:TBD
CATEGORIES:Vancouver
ATTACH;FMTTYPE=image/jpeg:https://vanwest.com/wp-content/uploads/2024/03/vanwest-college-title-cafe.jpg
ORGANIZER;CN="Chloe - Vancouver Activity Leader":MAILTO:activities@vanwest.com
END:VEVENT
BEGIN:VEVENT
DTSTART;TZID=UTC:20260511T150000
DTEND;TZID=UTC:20260511T170000
DTSTAMP:20260423T150815
CREATED:20260410T173004Z
LAST-MODIFIED:20260410T173004Z
UID:14017-1778511600-1778518800@vanwest.com
SUMMARY:Ice Cream Day
DESCRIPTION:
URL:https://vanwest.com/activities/ice-cream-day-13/
LOCATION:Earnest\, 1829 Quebec St Vancouver\, BC
CATEGORIES:Vancouver
ATTACH;FMTTYPE=image/jpeg:https://vanwest.com/wp-content/uploads/2025/01/ice-cream.jpg
ORGANIZER;CN="Chloe - Vancouver Activity Leader":MAILTO:activities@vanwest.com
END:VEVENT
BEGIN:VEVENT
DTSTART;TZID=UTC:20260512T150000
DTEND;TZID=UTC:20260512T170000
DTSTAMP:20260423T150815
CREATED:20260410T173103Z
LAST-MODIFIED:20260410T173103Z
UID:14019-1778598000-1778605200@vanwest.com
SUMMARY:Bowling
DESCRIPTION:
URL:https://vanwest.com/activities/bowling-2/
LOCATION:Grandview Lanes\, 2195 Commercial Dr\, Vancouver\, BC V5N 4B3
CATEGORIES:Vancouver
ATTACH;FMTTYPE=image/jpeg:https://vanwest.com/wp-content/uploads/2024/11/bowling.jpg
ORGANIZER;CN="Chloe - Vancouver Activity Leader":MAILTO:activities@vanwest.com
END:VEVENT
BEGIN:VEVENT
DTSTART;TZID=UTC:20260514T150000
DTEND;TZID=UTC:20260514T170000
DTSTAMP:20260423T150815
CREATED:20260410T173144Z
LAST-MODIFIED:20260410T173144Z
UID:14021-1778770800-1778778000@vanwest.com
SUMMARY:Pickleball
DESCRIPTION:
URL:https://vanwest.com/activities/pickleball/
LOCATION:Fairgrounds Public Racket Club\, 935 Marine Dr\, North Vancouver\, BC V7P 0C4
CATEGORIES:Vancouver
ATTACH;FMTTYPE=image/jpeg:https://vanwest.com/wp-content/uploads/2026/01/Pickleball-scaled.jpg
ORGANIZER;CN="Chloe - Vancouver Activity Leader":MAILTO:activities@vanwest.com
END:VEVENT
BEGIN:VEVENT
DTSTART;TZID=UTC:20260515T150000
DTEND;TZID=UTC:20260515T170000
DTSTAMP:20260423T150815
CREATED:20260410T173232Z
LAST-MODIFIED:20260410T173232Z
UID:14023-1778857200-1778864400@vanwest.com
SUMMARY:Happy Hour (19+)
DESCRIPTION:
URL:https://vanwest.com/activities/happy-hour-19-10/
LOCATION:TBD
CATEGORIES:Vancouver
ATTACH;FMTTYPE=image/jpeg:https://vanwest.com/wp-content/uploads/2024/11/happy-hour.jpg
ORGANIZER;CN="Chloe - Vancouver Activity Leader":MAILTO:activities@vanwest.com
END:VEVENT
BEGIN:VEVENT
DTSTART;TZID=UTC:20260516T110000
DTEND;TZID=UTC:20260516T140000
DTSTAMP:20260423T150815
CREATED:20260410T173424Z
LAST-MODIFIED:20260410T173424Z
UID:14025-1778929200-1778940000@vanwest.com
SUMMARY:Capilano Suspension Bridge Park
DESCRIPTION:
URL:https://vanwest.com/activities/capilano-suspension-bridge-park-2/
LOCATION:Capilano Suspension Bridge Park\, 3735 Capilano Rd\, North Vancouver\, BC\, V7R 4J1\, Canada
CATEGORIES:Vancouver
ATTACH;FMTTYPE=image/jpeg:https://vanwest.com/wp-content/uploads/2025/01/capilano.jpg
ORGANIZER;CN="Chloe - Vancouver Activity Leader":MAILTO:activities@vanwest.com
END:VEVENT
BEGIN:VEVENT
DTSTART;TZID=UTC:20260519T150000
DTEND;TZID=UTC:20260519T170000
DTSTAMP:20260423T150815
CREATED:20260410T173618Z
LAST-MODIFIED:20260410T173618Z
UID:14027-1779202800-1779210000@vanwest.com
SUMMARY:Picnic
DESCRIPTION:
URL:https://vanwest.com/activities/picnic-2/
LOCATION:TBD
CATEGORIES:Vancouver
ATTACH;FMTTYPE=image/jpeg:https://vanwest.com/wp-content/uploads/2025/05/Beach-Picnic.jpg
ORGANIZER;CN="Chloe - Vancouver Activity Leader":MAILTO:activities@vanwest.com
END:VEVENT
BEGIN:VEVENT
DTSTART;TZID=UTC:20260521T150000
DTEND;TZID=UTC:20260521T170000
DTSTAMP:20260423T150815
CREATED:20260410T173722Z
LAST-MODIFIED:20260410T173722Z
UID:14029-1779375600-1779382800@vanwest.com
SUMMARY:Pool
DESCRIPTION:
URL:https://vanwest.com/activities/pool-6/
LOCATION:TBD
CATEGORIES:Vancouver
ATTACH;FMTTYPE=image/jpeg:https://vanwest.com/wp-content/uploads/2024/11/pool.jpg
ORGANIZER;CN="Chloe - Vancouver Activity Leader":MAILTO:activities@vanwest.com
END:VEVENT
BEGIN:VEVENT
DTSTART;TZID=UTC:20260522T150000
DTEND;TZID=UTC:20260522T170000
DTSTAMP:20260423T150815
CREATED:20260410T173826Z
LAST-MODIFIED:20260410T173826Z
UID:14031-1779462000-1779469200@vanwest.com
SUMMARY:Shipyards
DESCRIPTION:
URL:https://vanwest.com/activities/shipyards/
LOCATION:Shipyards Night Market\, 19 Wallace Mews\, North Vancouver\, BC V7L 0B2
CATEGORIES:Vancouver
ATTACH;FMTTYPE=image/jpeg:https://vanwest.com/wp-content/uploads/2025/05/Shipyards-3.jpg
ORGANIZER;CN="Chloe - Vancouver Activity Leader":MAILTO:activities@vanwest.com
END:VEVENT
BEGIN:VEVENT
DTSTART;TZID=UTC:20260525T150000
DTEND;TZID=UTC:20260525T170000
DTSTAMP:20260423T150815
CREATED:20260410T173915Z
LAST-MODIFIED:20260410T173915Z
UID:14034-1779721200-1779728400@vanwest.com
SUMMARY:Flyover
DESCRIPTION:
URL:https://vanwest.com/activities/flyover-4/
LOCATION:Flyover\, 999 Canada Pl #201\, Vancouver\, BC V6C 3E1
CATEGORIES:Vancouver
ATTACH;FMTTYPE=image/jpeg:https://vanwest.com/wp-content/uploads/2025/02/Flyover-scaled.jpg
ORGANIZER;CN="Chloe - Vancouver Activity Leader":MAILTO:activities@vanwest.com
END:VEVENT
BEGIN:VEVENT
DTSTART;TZID=UTC:20260526T150000
DTEND;TZID=UTC:20260526T170000
DTSTAMP:20260423T150815
CREATED:20260410T173956Z
LAST-MODIFIED:20260410T173956Z
UID:14036-1779807600-1779814800@vanwest.com
SUMMARY:Granville Island
DESCRIPTION:
URL:https://vanwest.com/activities/granville-island-9/
LOCATION:Granville Island Public Market\, 1689 Johnston St\, Vancouver\, BC\, V6H 3S2
CATEGORIES:Vancouver
ATTACH;FMTTYPE=image/png:https://vanwest.com/wp-content/uploads/2025/05/Aquabus-Tour.png
ORGANIZER;CN="Chloe - Vancouver Activity Leader":MAILTO:activities@vanwest.com
END:VEVENT
BEGIN:VEVENT
DTSTART;TZID=UTC:20260528T150000
DTEND;TZID=UTC:20260528T170000
DTSTAMP:20260423T150815
CREATED:20260410T174038Z
LAST-MODIFIED:20260410T174038Z
UID:14038-1779980400-1779987600@vanwest.com
SUMMARY:Stanley Park Biking
DESCRIPTION:
URL:https://vanwest.com/activities/stanley-park-biking-8/
LOCATION:Stanley Park
CATEGORIES:Vancouver
ATTACH;FMTTYPE=image/jpeg:https://vanwest.com/wp-content/uploads/2026/03/Stanley-Park-1-scaled.jpg
ORGANIZER;CN="Chloe - Vancouver Activity Leader":MAILTO:activities@vanwest.com
END:VEVENT
BEGIN:VEVENT
DTSTART;TZID=UTC:20260529T150000
DTEND;TZID=UTC:20260529T170000
DTSTAMP:20260423T150815
CREATED:20260410T174156Z
LAST-MODIFIED:20260410T174156Z
UID:14040-1780066800-1780074000@vanwest.com
SUMMARY:Roedde House Museum
DESCRIPTION:
URL:https://vanwest.com/activities/roedde-house-museum/
LOCATION:Roedde House Museum\, 1415 Barclay St\, Vancouver\, BC V6E 1H6
CATEGORIES:Vancouver
ATTACH;FMTTYPE=image/jpeg:https://vanwest.com/wp-content/uploads/2026/04/Roedde-House-Museum.jpg
ORGANIZER;CN="Chloe - Vancouver Activity Leader":MAILTO:activities@vanwest.com
END:VEVENT
END:VCALENDAR